BEGIN:VCALENDAR
VERSION:2.0
PRODID:-//wp-events-plugin.com//7.2.3.1//EN
TZID:America/New_York
X-WR-TIMEZONE:America/New_York
BEGIN:VEVENT
UID:8@legendarycocoabeach.com
DTSTART;TZID=America/New_York:20250712T000000
DTEND;TZID=America/New_York:20250713T000000
DTSTAMP:20250619T194454Z
URL:https://legendarycocoabeach.com/events/cocoa-beach-air-show-2025/
SUMMARY:Cocoa Beach Air Show 2025
DESCRIPTION:July 12–13\, 2025Lori Wilson Park\, Cocoa Beach\, FL\nEvent O
 verviewThe Air Dot Show Tour returns to Cocoa Beach on July 12–13\, 2025
 \, featuring the U.S. Air Force F-22 Raptor Demo. Attendees can expect a l
 ineup of military and civilian aerial performances over the Atlantic coast
 line.\n\nPerformersScheduled acts include:\n\n\n 	\nF-22 Raptor Demo Team\
 n\n 	\nE/A-18 Growler Team\n\n 	\nC-17 Globemaster III Demo Team\n\n 	\nKC
 -135 Stratotanker Demo\n\n 	\n920th Rescue Wing\n\n 	\nRE/MAX Parachute Te
 am\n\n 	\nNavy Legacy Flight\n\n 	\nJohn Black Aerobatics\n\n\n\nSchedule\
 n\n\n 	\nGates open at 9:00 AM\n\n 	\nAerial performances from approximate
 ly 12:00 PM to 3:30 PM\n\n 	\nPractice flights may occur throughout the we
 ek leading up to the event\n\n\nViewing Options\n\n\n 	\nFlight Line Club 
 VIP: Includes tented seating\, catered lunch\, all-day beverage bar\, and 
 VIP parking.\n\n 	\nSand Boxes™: Private 10′ x 12′ reserved beach ar
 eas for up to four people\, with nearby dedicated restrooms and concession
 s.\n\n 	\nDrop Zone Beach: General admission area with access to restrooms
 \, food and beverage stands\, and professional narration.\n\n\nTicketsAdva
 nce purchase discounts are available:\n\n\n 	\nDrop Zone Beach: Starting a
 t $29.25\n\n 	\nSand Boxes™: Starting at $42.25 per person\n\n 	\nFlight
  Line Club VIP: Starting at $179 per person\n\n\n\nCocoa Beach Air Show Ad
 ditional Information\n\n 	Children under 5 are free in the Drop Zone Beach
  area.\n 	\nEar protection is recommended\, especially for young children.
 \n\n 	\nPersonal umbrellas are allowed\; however\, tents and awnings are p
 rohibited.\n\n 	\nCoolers with food and non-alcoholic beverages are permit
 ted in certain areas.\n\n\nContact &amp\; TicketsFor more details and to p
 urchase tickets\, visit the official event website.
ATTACH;FMTTYPE=image/jpeg:https://legendarycocoabeach.com/wp-content/uploa
 ds/2025/05/Cocoa-Beach-Air-Show-5.jpg
END:VEVENT
BEGIN:VTIMEZONE
TZID:America/New_York
X-LIC-LOCATION:America/New_York
BEGIN:DAYLIGHT
DTSTART:20250309T030000
TZOFFSETFROM:-0500
TZOFFSETTO:-0400
TZNAME:EDT
END:DAYLIGHT
END:VTIMEZONE
END:VCALENDAR